BEGIN:VCALENDAR
VERSION:2.0
PRODID:-//Salt Magazine - ECPv4.9.3.2//NONSGML v1.0//EN
CALSCALE:GREGORIAN
METHOD:PUBLISH
X-WR-CALNAME:Salt Magazine
X-ORIGINAL-URL:http://www.saltmagazine.org
X-WR-CALDESC:Events for Salt Magazine
BEGIN:VEVENT
DTSTART;TZID=Australia/Adelaide:20141108T180000
DTEND;TZID=Australia/Adelaide:20141108T220000
DTSTAMP:20260421T124104
CREATED:20141009T234615Z
LAST-MODIFIED:20141009T235259Z
UID:1418-1415469600-1415484000@www.saltmagazine.org
SUMMARY:African Comedy Festival - MELBOURNE
DESCRIPTION:Nigeria and Zimbabwe meet in Australia for the African Comedy Festival \nFeaturing Nigerian comedian BASKETMOUTH and Zimbabwean comedian CARL JOSHUA NCUBE \nCLICK HERE TO PURCHASE TICKETS\n \n
URL:http://www.saltmagazine.org/event/african-comedy-festival-melbourne/
LOCATION:Collingwood Town Hall\, 140 Hoddle Street\, Abbotsford\, VIC \, 3067\, Australia
ATTACH;FMTTYPE=image/jpeg:http://www.saltmagazine.org/wp-content/uploads/2014/10/10632837_10204691679593176_4402294160246048329_n.jpg
END:VEVENT
END:VCALENDAR